BEGIN:VCALENDAR
VERSION:2.0
PRODID:-//Tukios.com/
BEGIN:VEVENT
UID:44ca23b0-5b45-41a0-bb85-5d3704833dd1@www.beardmortuary.com
DTSTAMP:20260422T225125Z
DTSTART:20260427T220000Z
DTEND:20260428T010000Z
SUMMARY:Celebration of Life
DESCRIPTION:
URL:https://www.beardmortuary.com/obituaries/craig-dickson
LOCATION:Creekside Golf Course 400 Royal Birkdale Drive  Lavalette WV 
	25535
GEO:38.3319446;-82.4580108
END:VEVENT
END:VCALENDAR